BEGIN:VCALENDAR
VERSION:2.0
PRODID:-//SKE - ECPv6.15.20//NONSGML v1.0//EN
CALSCALE:GREGORIAN
METHOD:PUBLISH
X-WR-CALNAME:SKE
X-ORIGINAL-URL:https://skeuropa.pl
X-WR-CALDESC:Wydarzenia dla SKE
REFRESH-INTERVAL;VALUE=DURATION:PT1H
X-Robots-Tag:noindex
X-PUBLISHED-TTL:PT1H
BEGIN:VTIMEZONE
TZID:Europe/Warsaw
BEGIN:DAYLIGHT
TZOFFSETFROM:+0100
TZOFFSETTO:+0200
TZNAME:CEST
DTSTART:20220327T010000
END:DAYLIGHT
BEGIN:STANDARD
TZOFFSETFROM:+0200
TZOFFSETTO:+0100
TZNAME:CET
DTSTART:20221030T010000
END:STANDARD
BEGIN:DAYLIGHT
TZOFFSETFROM:+0100
TZOFFSETTO:+0200
TZNAME:CEST
DTSTART:20230326T010000
END:DAYLIGHT
BEGIN:STANDARD
TZOFFSETFROM:+0200
TZOFFSETTO:+0100
TZNAME:CET
DTSTART:20231029T010000
END:STANDARD
BEGIN:DAYLIGHT
TZOFFSETFROM:+0100
TZOFFSETTO:+0200
TZNAME:CEST
DTSTART:20240331T010000
END:DAYLIGHT
BEGIN:STANDARD
TZOFFSETFROM:+0200
TZOFFSETTO:+0100
TZNAME:CET
DTSTART:20241027T010000
END:STANDARD
END:VTIMEZONE
BEGIN:VEVENT
DTSTART;TZID=Europe/Warsaw:20230817T180000
DTEND;TZID=Europe/Warsaw:20230817T190000
DTSTAMP:20260420T100817
CREATED:20230817T153155Z
LAST-MODIFIED:20230818T055602Z
UID:1341-1692295200-1692298800@skeuropa.pl
SUMMARY:WILDA NA SPORTOWO
DESCRIPTION:Powracają cykliczne otwarte treningi kalisteniki pod czujnym okiem profesjonalnego trenera na terenie placu do Street Workoutu znajdującym się w Parku im. Jana Pawła II. Każdy może przyjść i spróbować swoich sił bez względu na wieku\, czy poziom zaawansowania. Trener dba o różny poziom ćwiczeń dostosowany do poszczególnych grup\, a Wy zabieracie ze sobą dobry humor i butelkę wody. \nZapraszamy na treningi w każdy czwartek o godzinie 18:00 oraz w każdą niedzielę o godzinie 10:00. Zajęcia będą realizowane od 17 sierpnia i przewidzianych jest łącznie 12 treningów. \nOd czasu do czasu\, po treningu będziemy porządkowali przestrzeń wokół placu do street workoutu. Wszystko po to\, aby zachować bezpieczeństwo oraz porządek w tym miejscu. Mamy nadzieję\, że dołączycie także do tej pomocy! \nOto inicjatywa oddolna wildeckich pasjonatów i pasjonatek aktywności fizycznej. Szczegóły można śledzić na grupie Wilda na Sportowo. \nUwaga! Wstęp na zajęcia otwarty! Nie ma konieczności zapisów! \nProjekt Centrum Inicjatyw Lokalnych WIL.DA.SIĘ jest finansowany ze środków budżetowych Miasta Poznania oraz środków pozostających w dyspozycji Rady Osiedla Wilda #poznanwspiera \n\nSZCZEGÓŁY\nData: 17 sierpnia\, g. 18:00\nMiejsce wydarzenia: Park im. Jana Pawła II\, plac do Street Workoutu\nProjekt: CIL WIL.DA.SIĘ\nProwadzący: Wilda na Sportowo\nKontakt i zapisy: Tomasz Szwałek\, 509 102 206
URL:https://skeuropa.pl/event/wilda-na-sportowo-20/
LOCATION:Plac do Street Workout\, Park im. Jana Pawła II
CATEGORIES:CIL WIL.DA.SIĘ
ATTACH;FMTTYPE=image/jpeg:https://skeuropa.pl/wp-content/uploads/2023/08/VIII-IX-2023_wnsel.jpg
END:VEVENT
END:VCALENDAR